BEGIN:VCALENDAR
VERSION:2.0
PRODID:-//AudioTheme 2.3.1
BEGIN:VEVENT
UID:urn:uuid:e1cb5cf2-1171-403b-9c37-497992597d9b
URL:https://www.pumpkinfield.co.uk/shows/andrew-wasylyk-2/
DTSTART;TZID=GMT:20190131T000000
SUMMARY:Andrew Wasylyk
DESCRIPTION:Launch gig for new album The Paralian\, with string arrangements by Pete Harvey
LOCATION:The Gardyne Theatre\, Gardyne Road\, Dundee\, \, Scotland\, DD5 1NY
END:VEVENT
END:VCALENDAR
