BEGIN:VCALENDAR
VERSION:2.0
PRODID:-//AudioTheme 2.3.1
BEGIN:VEVENT
UID:urn:uuid:e1cb5cf2-1171-403b-9c37-497992597d9b
URL:https://www.pumpkinfield.co.uk/shows/andrew-wasylyk-3/
DTSTART;TZID=GMT:20190201T000000
SUMMARY:Andrew Wasylyk
DESCRIPTION:Launch gig for new album The Paralian\, with string arrangements by Pete Harvey
LOCATION:The Blue Arrow\, 323 Sauchiehall Street\, Glasgow\, \, Scotland\, G2 3HW
END:VEVENT
END:VCALENDAR
