BEGIN:VCALENDAR
VERSION:2.0
PRODID:-//AudioTheme 2.3.1
BEGIN:VEVENT
UID:urn:uuid:88c2a06f-a03f-4d07-ac18-98b5dcf0ffb4
URL:https://www.pumpkinfield.co.uk/shows/andrew-wasylyk-5/
DTSTART;TZID=GMT:20190806T000000
SUMMARY:Andrew Wasylyk
DESCRIPTION:Nothing Ever Happens Here\, Summerhall
LOCATION:Summerhall\, 1 Summerhall\, Edinburgh\, \, United Kingdom\, EH9 1PL
END:VEVENT
END:VCALENDAR
