BEGIN:VCALENDAR
VERSION:2.0
PRODID:-//AudioTheme 2.3.1
BEGIN:VEVENT
UID:urn:uuid:e1cb5cf2-1171-403b-9c37-497992597d9b
URL:https://www.pumpkinfield.co.uk/shows/andrew-wasylyk/
DTSTART;TZID=GMT:20190130T000000
SUMMARY:Andrew Wasylyk
DESCRIPTION:Launch gig for new album The Paralian\, with string arrangements by Pete Harvey
LOCATION:The Voodoo Rooms\, 9a W Register St\, Edinburgh\, \, Scotland\, EH2 2AA
END:VEVENT
END:VCALENDAR
