BEGIN:VCALENDAR
VERSION:2.0
PRODID:-//AudioTheme 2.3.1
BEGIN:VEVENT
UID:urn:uuid:557788ef-e750-477b-9b54-8707657efb99
URL:https://www.pumpkinfield.co.uk/shows/ben-chatwin-and-lomond-campbell/
DTSTART;TZID=GMT:20190202T000000
SUMMARY:Ben Chatwin and Lomond Campbell
DESCRIPTION:Ben Chatwin and Lomond Campbell perform sets with the Pumpkinseed strings.
LOCATION:The Glad Cafe\, 1006A Pollokshaws Rd\, Glasgow\, \, G41 2HG
END:VEVENT
END:VCALENDAR
