BEGIN:VCALENDAR
VERSION:2.0
PRODID:-//AudioTheme 2.3.1
BEGIN:VEVENT
UID:urn:uuid:901d3d01-cb7e-4875-951c-058f38707c57
URL:https://www.pumpkinfield.co.uk/shows/ben-chatwin/
DTSTART;TZID=GMT:20190725T184500
SUMMARY:Ben Chatwin
DESCRIPTION:'Immersion' - Village Green Recordings - Purcell Room
LOCATION:Southbank Centre\, Belvedere Road\, London\, \, United Kingdom\, SE1 8XX
END:VEVENT
END:VCALENDAR
