BEGIN:VCALENDAR
VERSION:2.0
PRODID:-//AudioTheme 2.3.1
BEGIN:VEVENT
UID:urn:uuid:ca11eb29-31c1-486a-bb3b-d90f8bcba053
URL:https://www.pumpkinfield.co.uk/shows/emma-pollock-2/
DTSTART;TZID=GMT:20191221T000000
SUMMARY:Emma Pollock
LOCATION:The Glad Cafe\, 1006A Pollokshaws Rd\, Glasgow\, \, G41 2HG
END:VEVENT
END:VCALENDAR
