BEGIN:VCALENDAR
VERSION:2.0
PRODID:-//AudioTheme 2.3.1
BEGIN:VEVENT
UID:urn:uuid:0ec71609-fd2e-4641-a67f-9e9ace53bc3c
URL:https://www.pumpkinfield.co.uk/shows/emma-pollock-3/
DTSTART;TZID=GMT:20200131T193000
SUMMARY:Emma Pollock
DESCRIPTION:Supporting Field Music
LOCATION:Brewery Arts Centre\, 122A Highgate Kendal LA9 4HE\, Kendal\, \, United Kingdom\, LA9 4HE
END:VEVENT
END:VCALENDAR
