BEGIN:VCALENDAR
VERSION:2.0
PRODID:-//AudioTheme 2.3.1
BEGIN:VEVENT
UID:urn:uuid:1e5126c3-7b7c-4ec5-81a5-59aa7ab96ce6
URL:https://www.pumpkinfield.co.uk/shows/emma-pollock-4/
DTSTART;TZID=GMT:20200221T183000
SUMMARY:Emma Pollock
DESCRIPTION:Supporting Field Music
LOCATION:Rescue Rooms\, Masonic Place\, Goldsmith Street\, Nottingham\, \, United Kingdom\, NG1 5JT
END:VEVENT
END:VCALENDAR
