BEGIN:VCALENDAR
VERSION:2.0
PRODID:-//AudioTheme 2.3.1
BEGIN:VEVENT
UID:urn:uuid:e584b590-fd50-4651-be12-c34077abd03f
URL:https://www.pumpkinfield.co.uk/shows/emma-pollock-5/
DTSTART;TZID=GMT:20200222T000000
SUMMARY:Emma Pollock
DESCRIPTION:Supporting Field Music
LOCATION:Brudenell Community Room\, Brudenell Social Club\, 33 Queen’s Road\, Leeds\, \, United Kingdom\, LS6 1NY
END:VEVENT
END:VCALENDAR
