BEGIN:VCALENDAR
VERSION:2.0
PRODID:-//AudioTheme 2.3.1
BEGIN:VEVENT
UID:urn:uuid:b1b3601c-0cd1-4fec-9ed7-bcc741ac5cf8
URL:https://www.pumpkinfield.co.uk/shows/emma-pollock-6/
DTSTART;TZID=GMT:20200227T193000
SUMMARY:Emma Pollock
DESCRIPTION:Supporting Field Music
LOCATION:Whitley Bay Playhouse\, Marine Avenue\, Whitley Bay\, \, United Kingdom\, NE26 1LZ
END:VEVENT
END:VCALENDAR
