BEGIN:VCALENDAR
VERSION:2.0
PRODID:-//AudioTheme 2.3.1
BEGIN:VEVENT
UID:urn:uuid:cfd584f1-3fd1-4f92-84d4-c2cf27cd3c0b
URL:https://www.pumpkinfield.co.uk/shows/emma-pollock-7/
DTSTART;TZID=GMT:20200228T193000
SUMMARY:Emma Pollock
DESCRIPTION:Supporting Field Music
LOCATION:Dancehouse\, 10 Oxford Rd\, Manchester\, \, United Kingdom\, M1 5QA
END:VEVENT
END:VCALENDAR
