BEGIN:VCALENDAR
VERSION:2.0
PRODID:-//AudioTheme 2.3.1
BEGIN:VEVENT
UID:urn:uuid:9d44aadd-699a-4b5c-9909-cd8c1af66143
URL:https://www.pumpkinfield.co.uk/shows/emma-pollock/
DTSTART;TZID=GMT:20190808T000000
SUMMARY:Emma Pollock (Delgados)
DESCRIPTION:Nothing Ever Happens Here\; Summerhall
LOCATION:Summerhall\, 1 Summerhall\, Edinburgh\, \, United Kingdom\, EH9 1PL
END:VEVENT
END:VCALENDAR
