BEGIN:VCALENDAR
VERSION:2.0
PRODID:-//AudioTheme 2.3.1
BEGIN:VEVENT
UID:urn:uuid:2a2c535c-dde5-4722-b6d8-f37ad3ac02a3
URL:https://www.pumpkinfield.co.uk/shows/gig-5479/
DTSTART;TZID=GMT:20190106T000000
SUMMARY:The Penalty
DESCRIPTION:1920 Lon Chaney film with original live score for guitar and cello by Graeme Stephen\, performed by the composer and cellist Pete Harvey.
LOCATION:DCA\, 152 Nethergate\, Dundee\, \, Scotland\, DD1 4DY
END:VEVENT
END:VCALENDAR
