BEGIN:VCALENDAR
VERSION:2.0
PRODID:-//AudioTheme 2.3.1
BEGIN:VEVENT
UID:urn:uuid:2cf11644-6e8b-46f9-89e5-b3665ee4a85b
URL:https://www.pumpkinfield.co.uk/shows/hamish-hawk-paul-vickers-and-the-leg/
DTSTART;TZID=GMT:20190506T183000
SUMMARY:Paul Vickers and the Leg
DESCRIPTION:Supporting Hamish Hawk & the New Outfit
LOCATION:Sneaky Pete's\, 73 Cowgate\, Edinburgh\, \, United Kingdom\, EH1 1JW
END:VEVENT
END:VCALENDAR
