BEGIN:VCALENDAR
VERSION:2.0
PRODID:-//AudioTheme 2.3.1
BEGIN:VEVENT
UID:urn:uuid:3e7bcd54-7073-4198-ab8f-215a3164544b
URL:https://www.pumpkinfield.co.uk/shows/iain-morrison/
DTSTART;TZID=GMT:20200117T193000
SUMMARY:Iain Morrison
LOCATION:Nice 'n' Sleazy\, 421 Sauchiehall St.\, Glasgow\, \, United Kingdom\, G2 3LG
END:VEVENT
END:VCALENDAR
