BEGIN:VCALENDAR
VERSION:2.0
PRODID:-//AudioTheme 2.3.1
BEGIN:VEVENT
UID:urn:uuid:b1e8cdf4-465a-4474-88a5-68b1812e8fce
URL:https://www.pumpkinfield.co.uk/shows/king-creosote-from-scotland-with-love-2/
DTSTART;TZID=GMT:20200308T190000
SUMMARY:King Creosote - From Scotland with Love
LOCATION:Eden Court Theatre\, Bishops Road\, Inverness\, \, United Kingdom\, IV3 5SA
END:VEVENT
END:VCALENDAR
