BEGIN:VCALENDAR
VERSION:2.0
PRODID:-//AudioTheme 2.3.1
BEGIN:VEVENT
UID:urn:uuid:6c998bdc-4f86-486d-b844-23ff2101da7b
URL:https://www.pumpkinfield.co.uk/shows/king-creosote-from-scotland-with-love-3/
DTSTART;TZID=GMT:20200309T190000
SUMMARY:King Creosote - From Scotland with Love
LOCATION:Music Hall\, Union Street\, Aberdeen\, \, United Kingdom\, AB10 1QS
END:VEVENT
END:VCALENDAR
