BEGIN:VCALENDAR
VERSION:2.0
PRODID:-//AudioTheme 2.3.1
BEGIN:VEVENT
UID:urn:uuid:845a2f8d-e080-41b6-a1d6-a168209785cc
URL:https://www.pumpkinfield.co.uk/shows/king-creosote-from-scotland-with-love-4/
DTSTART;TZID=GMT:20200311T190000
SUMMARY:King Creosote - From Scotland with Love
LOCATION:Perth Concert Hall\, Mill Street\, Perth\, \, United Kingdom\, PH1 5HZ
END:VEVENT
END:VCALENDAR
