BEGIN:VCALENDAR
VERSION:2.0
PRODID:-//AudioTheme 2.3.1
BEGIN:VEVENT
UID:urn:uuid:a2ed7dfd-b91b-424e-acc9-03f83355b8db
URL:https://www.pumpkinfield.co.uk/shows/king-creosote-from-scotland-with-love-5/
DTSTART;TZID=GMT:20200312T190000
SUMMARY:King Creosote - From Scotland with Love
LOCATION:Glasgow Concert Hall\, 2 Sauchiehall St.\, Glasgow\, \, United Kingdom\, G2 3NY
END:VEVENT
END:VCALENDAR
