BEGIN:VCALENDAR
VERSION:2.0
PRODID:-//AudioTheme 2.3.1
BEGIN:VEVENT
UID:urn:uuid:c23e0141-737d-47c2-b549-e74239595dc5
URL:https://www.pumpkinfield.co.uk/shows/king-creosote-from-scotland-with-love-6/
DTSTART;TZID=GMT:20200314T200000
SUMMARY:King Creosote - From Scotland with Love
LOCATION:Barbican Centre\, Silk Street\, London\, \, United Kingdom\, EC2Y 8DS
END:VEVENT
END:VCALENDAR
