BEGIN:VCALENDAR
VERSION:2.0
PRODID:-//AudioTheme 2.3.1
BEGIN:VEVENT
UID:urn:uuid:1d8da4d0-c003-489b-bb24-cedb8c731233
URL:https://www.pumpkinfield.co.uk/shows/king-creosote-from-scotland-with-love-7/
DTSTART;TZID=GMT:20200316T190000
SUMMARY:King Creosote - From Scotland with Love
LOCATION:Bridgewater Hall\, Lower Moseley St.\, Manchester\, \, United Kingdom\, M2 3WS
END:VEVENT
END:VCALENDAR
