BEGIN:VCALENDAR
VERSION:2.0
PRODID:-//AudioTheme 2.3.1
BEGIN:VEVENT
UID:urn:uuid:9b39a993-6c11-4d64-b772-1058a175059b
URL:https://www.pumpkinfield.co.uk/shows/king-creosote-from-scotland-with-love/
DTSTART;TZID=GMT:20200307T190000
SUMMARY:King Creosote - From Scotland with Love
LOCATION:Usher Hall\, Lothian Rd.\, Edinburgh\, \, united Kingdom\, EH1 2EA
END:VEVENT
END:VCALENDAR
