BEGIN:VCALENDAR
VERSION:2.0
PRODID:-//AudioTheme 2.3.1
BEGIN:VEVENT
UID:urn:uuid:7bce8738-8b8f-43cc-ab17-7f72784f083b
URL:https://www.pumpkinfield.co.uk/shows/kristin-hersh-support-fred-abong-2/
DTSTART;TZID=GMT:20191112T200000
SUMMARY:Kristin Hersh (Support: Fred Abong)
LOCATION:The Trades Club\, Holme Street\, Hebden Bridge\, \, United Kingdom\, HX7 8EE
END:VEVENT
END:VCALENDAR
