BEGIN:VCALENDAR
VERSION:2.0
PRODID:-//AudioTheme 2.3.1
BEGIN:VEVENT
UID:urn:uuid:0b5c575b-efbb-4cdb-b42d-013fe2f634e2
URL:https://www.pumpkinfield.co.uk/shows/kristin-hersh-support-fred-abong-3/
DTSTART;TZID=GMT:20191108T200000
SUMMARY:Kristin Hersh (Support: Fred Abong)
LOCATION:Foxlowe Arts Centr\, Stockwell St.\, Leek\, \, United Kingdom\, ST13 6AD
END:VEVENT
END:VCALENDAR
