BEGIN:VCALENDAR
VERSION:2.0
PRODID:-//AudioTheme 2.3.1
BEGIN:VEVENT
UID:urn:uuid:db524acf-c317-4677-be2c-1f0e0f8255d8
URL:https://www.pumpkinfield.co.uk/shows/kristin-hersh-support-fred-abong/
DTSTART;TZID=GMT:20191110T190000
SUMMARY:Kristin Hersh (Support Fred Abong)
LOCATION:The Jazz Cafe\, 5 Parkway\, Camden\, London\, \, United Kingdom\, NW1 7PG
END:VEVENT
END:VCALENDAR
