BEGIN:VCALENDAR
VERSION:2.0
PRODID:-//AudioTheme 2.3.1
BEGIN:VEVENT
UID:urn:uuid:149c3993-2a16-450b-9fa2-bcd6fda123ba
URL:https://www.pumpkinfield.co.uk/shows/lizabett-russo-2/
DTSTART;TZID=GMT:20190815T180000
SUMMARY:Lizabett Russo
DESCRIPTION:Hosted by S!nk
LOCATION:Pianodrome\, Pitt Street Market\, Edinburgh\, \, United Kingdom
END:VEVENT
END:VCALENDAR
