BEGIN:VCALENDAR
VERSION:2.0
PRODID:-//AudioTheme 2.3.1
BEGIN:VEVENT
UID:urn:uuid:426394aa-c890-4493-8fc3-4425e76bf3b4
URL:https://www.pumpkinfield.co.uk/shows/modern-studies-rod-jones-idlewild/
DTSTART;TZID=GMT:20190726T000000
SUMMARY:Modern Studies & Rod Jones (Idlewild)
DESCRIPTION:SAY Awards: Live at the Longlist
LOCATION:Queen's Hall\, Clerk Street\, Edinburgh\, \, United Kingdom\, EH8 9JG
END:VEVENT
END:VCALENDAR
