BEGIN:VCALENDAR
VERSION:2.0
PRODID:-//AudioTheme 2.3.1
BEGIN:VEVENT
UID:urn:uuid:bf964d11-c0d0-47c1-a4bc-9787f95ac665
URL:https://www.pumpkinfield.co.uk/shows/modern-studies/
DTSTART;TZID=GMT:20191220T170000
SUMMARY:Modern Studies
DESCRIPTION:Fire Records present The Outer Limits with Vanishing Twin\, Fenella (Jane Weaver + Raz Ullah & Peter Philipson)\, Death And Vanilla\, Pictish Trail\, Islet\, and Tommy Perman
LOCATION:Studio 9294\, 92 Wallis Rd.\, London\, \, United Kingdom\, E9 5LN
END:VEVENT
END:VCALENDAR
