BEGIN:VCALENDAR
VERSION:2.0
PRODID:-//AudioTheme 2.3.1
BEGIN:VEVENT
UID:urn:uuid:b9d285c2-d1cf-4f33-8a36-72a94ecc3f12
URL:https://www.pumpkinfield.co.uk/shows/paul-vickers-and-the-leg-2/
DTSTART;TZID=GMT:20191206T193000
SUMMARY:Paul Vickers and the Leg
DESCRIPTION:Jump album launch  Support from Dominic Waxing Lyrical
LOCATION:St Vincent's Church\, St Vincent St.\, Edinburgh\, \, United Kingdom\, EH3 6SW
END:VEVENT
END:VCALENDAR
