BEGIN:VCALENDAR
VERSION:2.0
PRODID:-//AudioTheme 2.3.1
BEGIN:VEVENT
UID:urn:uuid:04a6f377-7170-44b9-81c0-8c0d2bb55a3a
URL:https://www.pumpkinfield.co.uk/shows/paul-vickers-and-the-leg-3/
DTSTART;TZID=GMT:20200207T000000
SUMMARY:Paul Vickers and the Leg
DESCRIPTION:Jump - Glasgow album launch - w / A New International (acoustic) and Dominic Waxing Lyrical
LOCATION:The Glad Cafe\, 1006A Pollokshaws Rd\, Glasgow\, \, G41 2HG
END:VEVENT
END:VCALENDAR
