BEGIN:VCALENDAR
VERSION:2.0
PRODID:-//AudioTheme 2.3.1
BEGIN:VEVENT
UID:urn:uuid:b9c53f94-1390-4623-a7c3-6a5fbcfe8f33
URL:https://www.pumpkinfield.co.uk/shows/paul-vickers-and-the-leg/
DTSTART;TZID=GMT:20190323T140000
SUMMARY:Paul Vickers and the Leg
LOCATION:Leith Depot\, 140 Leith Walk\, Edinburgh\, Midlothian\, United Kingdom\, EH6 5DT
END:VEVENT
END:VCALENDAR
