BEGIN:VCALENDAR
VERSION:2.0
PRODID:-//AudioTheme 2.3.1
BEGIN:VEVENT
UID:urn:uuid:e86475ed-7ad6-4d8e-b3d5-61b4ebca822d
URL:https://www.pumpkinfield.co.uk/shows/the-leg-2/
DTSTART;TZID=GMT:20190717T000000
SUMMARY:The Leg
DESCRIPTION:Supporting Ghum
LOCATION:Henry's Cellar Bar\, 16A Morrison St\, Edinburgh\, \, EH3 8BJ
END:VEVENT
END:VCALENDAR
