BEGIN:VCALENDAR
VERSION:2.0
PRODID:-//AudioTheme 2.3.1
BEGIN:VEVENT
UID:urn:uuid:fc5bb8e5-c524-4e1b-a5b5-e16600bdcf25
URL:https://www.pumpkinfield.co.uk/shows/the-leg-3/
DTSTART;TZID=GMT:20190615T000000
SUMMARY:The Leg
DESCRIPTION:Supporting SAY award winners Sacred Paws
LOCATION:Summerhall\, 1 Summerhall\, Edinburgh\, \, United Kingdom\, EH9 1PL
END:VEVENT
END:VCALENDAR
