BEGIN:VCALENDAR
VERSION:2.0
PRODID:-//AudioTheme 2.3.1
BEGIN:VEVENT
UID:urn:uuid:b4ca3791-a704-4f12-a8ff-882acea7d030
URL:https://www.pumpkinfield.co.uk/shows/the-leg-supporting-xylouris-white/
DTSTART;TZID=GMT:20191113T000000
SUMMARY:The Leg (Supporting Xylouris White)
LOCATION:Summerhall\, 1 Summerhall\, Edinburgh\, \, United Kingdom\, EH9 1PL
END:VEVENT
END:VCALENDAR
