BEGIN:VCALENDAR
VERSION:2.0
PRODID:-//AudioTheme 2.3.1
BEGIN:VEVENT
UID:urn:uuid:940e8939-11e4-4d32-b243-a5c30dc76be4
URL:https://www.pumpkinfield.co.uk/shows/the-leg/
DTSTART;TZID=GMT:20190111T000000
SUMMARY:The Leg
DESCRIPTION:Supporting Land of Cakes. Also playing: Kurtz
LOCATION:Henry's Cellar Bar\, 16A Morrison St\, Edinburgh\, \, EH3 8BJ
END:VEVENT
END:VCALENDAR
