BEGIN:VCALENDAR
VERSION:2.0
PRODID:-//AudioTheme 2.3.1
BEGIN:VEVENT
UID:urn:uuid:e9256392-c8f4-4b4e-8e75-35af91498667
URL:https://www.pumpkinfield.co.uk/shows/withered-hand-2/
DTSTART;TZID=GMT:20191122T000000
SUMMARY:Withered Hand
LOCATION:The Voodoo Rooms\, 9a W Register St\, Edinburgh\, \, Scotland\, EH2 2AA
END:VEVENT
END:VCALENDAR
