BEGIN:VCALENDAR
VERSION:2.0
PRODID:-//AudioTheme 2.3.1
BEGIN:VEVENT
UID:urn:uuid:b1363613-ae67-4144-b672-2b74ffb1ce96
URL:https://www.pumpkinfield.co.uk/shows/withered-hand/
DTSTART;TZID=GMT:20191121T000000
SUMMARY:Withered Hand
DESCRIPTION:Pumpkinseeds strings playing with WH to celebrate 10 years of Good News
LOCATION:The Voodoo Rooms\, 9a W Register St\, Edinburgh\, \, Scotland\, EH2 2AA
END:VEVENT
END:VCALENDAR
