BEGIN:VCALENDAR
VERSION:2.0
PRODID:-//AudioTheme 2.3.1
BEGIN:VEVENT
UID:urn:uuid:7ed8b4e1-77aa-4c24-ae62-1ffd36a94011
URL:https://www.pumpkinfield.co.uk/shows/withered-hands/
DTSTART;TZID=GMT:20191120T000000
SUMMARY:Withered Hand
DESCRIPTION:Pumpkinseeds strings playing with WH to celebrate 10 years of Good News
LOCATION:The Voodoo Rooms\, 9a W Register St\, Edinburgh\, \, Scotland\, EH2 2AA
END:VEVENT
END:VCALENDAR
